BEGIN:VCALENDAR
VERSION:2.0
PRODID:-//ChamberMaster//Event Calendar 2.0//EN
METHOD:PUBLISH
X-PUBLISHED-TTL:P3D
REFRESH-INTERVAL:P3D
CALSCALE:GREGORIAN
BEGIN:VEVENT
DTSTART:20231206T132500Z
DTEND:20231206T170000Z
X-MICROSOFT-CDO-ALLDAYEVENT:FALSE
SUMMARY:2023 - Smart Business Seminar - Rural & Small Business Summit
DESCRIPTION:Wellbeing\, Retention\, and Recruitment in Today's Workforce\n\nManagers and Supervisors in central New York report that they spend an average of 40% of their time on issues related to employee struggles with mental health and wellbeing. Join us for a look at strategies for improving workplace wellbeing as well as considerations for hiring and working with those who may be in recovery from addiction or mental health issues.\n\n\n\nJoel Bennett\, PhD\, CEO\, Organizational Wellness & Learning Systems\n\nJoel Bennett\, PhD\, is CEO of Organizational Wellness & Learning Systems\, a small business he founded in 1990. Dr. Bennett is very familiar with small business development through his two-year participation in small business incubator and accelerator programs (with TechForthWorth) and through commercialization assistance programming with the National Institute of Health. In addition\, he has submitted two patents and has studied wellness programming in small businesses. Dr. Bennett's latest book "The Connoisseur of Time" is available for free download from www.presencequest.life.\n\n \n\nDawn Lanouette\, Esq.\, Partner\, Hinman\, Howard & Kattell\, LLP\n\nDawn counsels unionized and non-unionized employers on all aspects of their relationship with employees from recruitment to termination. She provides training to Executives\, Human Resources Personnel\, and Managers and Supervisors on legal obligations and best practices. She drafts and reviews employee handbooks and employment policies\, and provides regular advice to clients on complying with the myriad of federal and state labor and employment laws. She also counsels clients concerning wage and hour law\, and provides assistance with audits of exempt status and gender equity. When the relationship sours\, Ms. Lanouette represents employers in state and federal courts and before administrative agencies including the Equal Employment Opportunity Commission\, the New York Division of Human Rights\, the Department of Labor\, the Occupational Health and Safety Commission\, and the National Labor Relations Board. She is a frequent writer and speaker on labor and employment issues.
X-ALT-DESC;FMTTYPE=text/html:<div>\n<p>Wellbeing\, Retention\, and Recruitment in Today&rsquo\;s Workforce<br />\nManagers and Supervisors in central New York report that they spend an average of 40% of their time on issues related to employee struggles with mental health and wellbeing. Join us for a look at strategies for improving workplace wellbeing as well as considerations for hiring and working with those who may be in recovery from addiction or mental health issues.<br />\n<br />\nJoel Bennett\, PhD\, CEO\, Organizational Wellness &amp\; Learning Systems<br />\nJoel Bennett\, PhD\, is CEO of Organizational&nbsp\;Wellness &amp\; Learning Systems\, a small business he founded in 1990. Dr. Bennett is very familiar with small business development through his two-year participation in small business incubator and accelerator programs (with TechForthWorth) and through commercialization assistance programming with the National Institute of Health. In addition\, he has submitted two patents and has studied wellness programming in small businesses. Dr. Bennett&#39\;s latest book &quot\;The Connoisseur of Time&quot\; is available for free download from <a href="http://www.presencequest.life">www.presencequest.life</a>.<br />\n&nbsp\;<br />\nDawn Lanouette\, Esq.\, Partner\, Hinman\, Howard &amp\; Kattell\, LLP<br />\nDawn counsels unionized and non-unionized employers on all aspects of their relationship with employees from recruitment to termination. She provides training to Executives\, Human Resources Personnel\, and Managers and Supervisors on legal obligations and best practices. She drafts and reviews employee handbooks and employment policies\, and provides regular advice to clients on complying with the myriad of federal and state labor and employment laws. She also counsels clients concerning wage and hour law\, and provides assistance with audits of exempt status and gender equity. When the relationship sours\, Ms. Lanouette represents employers in state and federal courts and before administrative agencies including the Equal Employment Opportunity Commission\, the New York Division of Human Rights\, the Department of Labor\, the Occupational Health and Safety Commission\, and the National Labor Relations Board. She is a frequent writer and speaker on labor and employment issues.<br />\n&nbsp\;</p>\n</div>\n
LOCATION:The Loft (AKA: Upstairs Theatre )
UID:e.2635.1099
SEQUENCE:3
DTSTAMP:20260424T121446Z
URL:https://members.otsegocc.com/events/details/2023-smart-business-seminar-rural-small-business-summit-1099
END:VEVENT

END:VCALENDAR
