BEGIN:VCALENDAR
VERSION:2.0
PRODID:-//ChamberMaster//Event Calendar 2.0//EN
METHOD:PUBLISH
X-PUBLISHED-TTL:P3D
REFRESH-INTERVAL:P3D
CALSCALE:GREGORIAN
BEGIN:VEVENT
DTSTART:20231014T150000Z
DTEND:20231014T200000Z
X-MICROSOFT-CDO-ALLDAYEVENT:FALSE
SUMMARY:2023 - Community Resource Fair
DESCRIPTION:Come see all the resources available to you in Otsego County! Attendees at this event are provided the opportunity to gather and exchange information from different agencies tabling the event. Agencies present at the Resource Fair provide services ranging from recreation for all ages\, volunteer opportunities\, mental health\, food assistance\, family support\, and much more!!
X-ALT-DESC;FMTTYPE=text/html:<span class="OYPEnA text-decoration-none text-strikethrough-none" style="color: rgb(0\, 0\, 0)\;">Come see all the resources available to you in Otsego County! Attendees at this</span><span class="OYPEnA text-decoration-none text-strikethrough-none white-space-prewrap" style="color: rgb(0\, 0\, 0)\;"> </span><span class="OYPEnA text-decoration-none text-strikethrough-none" style="color: rgb(0\, 0\, 0)\;">event are provided the opportunity to gather and exchange information from different agencies tabling the event. Agencies present at the Resource Fair provide services ranging from recreation for all ages\,</span><span class="OYPEnA text-decoration-none text-strikethrough-none white-space-prewrap" style="color: rgb(0\, 0\, 0)\;"> </span><span class="OYPEnA text-decoration-none text-strikethrough-none" style="color: rgb(0\, 0\, 0)\;">volunteer opportunities\, mental health\, food assistance\, family support\,</span><span class="OYPEnA text-decoration-none text-strikethrough-none white-space-prewrap" style="color: rgb(0\, 0\, 0)\;"> </span><span class="OYPEnA text-decoration-none text-strikethrough-none" style="color: rgb(0\, 0\, 0)\;">and much more!!</span>
LOCATION:Southside Mall Oneonta\, NY 13820
UID:e.2635.1094
SEQUENCE:3
DTSTAMP:20260424T084004Z
URL:https://members.otsegocc.com/events/details/2023-community-resource-fair-1094
END:VEVENT

END:VCALENDAR
