BEGIN:VCALENDAR
VERSION:2.0
PRODID:-//ChamberMaster//Event Calendar 2.0//EN
METHOD:PUBLISH
X-PUBLISHED-TTL:P3D
REFRESH-INTERVAL:P3D
CALSCALE:GREGORIAN
BEGIN:VEVENT
DTSTART:20220321T130000Z
DTEND:20220321T143000Z
X-MICROSOFT-CDO-ALLDAYEVENT:FALSE
SUMMARY:2022 Spring Labor Law Update with HH&K lawyer Dawn Lanouette
DESCRIPTION:Smart Business Seminar Series:\n\nLabor Law Update\n\nWhat is new for 2022? New Notice requirements for employee monitoring\, significant changes to New York's whistleblower law\, changes to paid family leave\, and new retirement rules are just a few of the updates we will cover.  HH&K will explain these changes and answer questions that you may have\, so join us for this very important seminar.
X-ALT-DESC;FMTTYPE=text/html:<span style="font-size:14px\;"><span style="color:#0000FF\;"><strong>&nbsp\;Smart Business Seminar Series:<br />\nLabor Law Update</strong></span></span><br />\n<strong><span style="font-size: 11pt\; font-family: Calibri\, sans-serif\; color: rgb(102\, 102\, 102)\; background-image: initial\; background-position: initial\; background-size: initial\; background-repeat: initial\; background-attachment: initial\; background-origin: initial\; background-clip: initial\;">What is new for 2022? New Notice requirements for employee monitoring\, significant changes to New York&rsquo\;s whistleblower law\, changes to paid family leave\, and new retirement rules are just a few of the updates we will cover.&nbsp\; HH&amp\;K will explain these changes and answer questions that you may have\, so join us for this very important seminar.</span></strong>
LOCATION:A zoom meeting so from anywhere- but must pre-register.
UID:e.2635.914
SEQUENCE:3
DTSTAMP:20260423T171243Z
URL:https://members.otsegocc.com/events/details/2022-spring-labor-law-update-with-hh-k-lawyer-dawn-lanouette-914
END:VEVENT

END:VCALENDAR
