BEGIN:VCALENDAR
VERSION:2.0
PRODID:-//ChamberMaster//Event Calendar 2.0//EN
METHOD:PUBLISH
X-PUBLISHED-TTL:P3D
REFRESH-INTERVAL:P3D
CALSCALE:GREGORIAN
BEGIN:VEVENT
DTSTART:20220519T130000Z
DTEND:20220519T140000Z
X-MICROSOFT-CDO-ALLDAYEVENT:FALSE
SUMMARY:2022 Smart Business Seminar- "Good Health is Good Business: The Benefits of Tobacco and Marijuana Free Policies"
DESCRIPTION:This seminar will look at  the benefits of a policy at your business for tobacco and marijuana use/ non usage to be ready for the new mandates coming.  A free zone at your business\, your  policy clearly stated in the employee handbook\, are some of the steps you can take now to have a healthier workforce and to be compliant with the law.  Presented by Jennifer Hill\, Community Engagement Coordinator for Tobacco-free Communities/Delaware\, Otsego\, and Schoharie Counties.   Join us and learn how you can be prepared for these changes and tips for helping your workforce be healthy!
X-ALT-DESC;FMTTYPE=text/html:This seminar will look at&nbsp\; the benefits of a policy at your business for tobacco and marijuana use/ non usage to be ready for the new mandates coming.&nbsp\; A free zone at your business\, your&nbsp\; policy clearly stated in the employee handbook\, are some of the steps you can take now to have a healthier workforce and to be compliant with the law.&nbsp\; Presented by Jennifer Hill\,&nbsp\;<span style="font-family: Roboto\, sans-serif\;">Community Engagement Coordinator for&nbsp\;</span>Tobacco-free Communities/Delaware\, Otsego\, and Schoharie Counties.&nbsp\; &nbsp\;Join us and learn how you can be prepared for these changes and tips for helping your workforce be healthy!&nbsp\;
LOCATION:Zoom meeting- join us from any device
UID:e.2635.1047
SEQUENCE:3
DTSTAMP:20260423T130616Z
URL:https://members.otsegocc.com/events/details/2022-smart-business-seminar-good-health-is-good-business-the-benefits-of-tobacco-and-marijuana-free-policies-1047
END:VEVENT

END:VCALENDAR
