BEGIN:VCALENDAR
VERSION:2.0
PRODID:-//ChamberMaster//Event Calendar 2.0//EN
METHOD:PUBLISH
X-PUBLISHED-TTL:P3D
REFRESH-INTERVAL:P3D
CALSCALE:GREGORIAN
BEGIN:VEVENT
DTSTART:20220328T133000Z
DTEND:20220328T150000Z
X-MICROSOFT-CDO-ALLDAYEVENT:FALSE
SUMMARY:2022 NYS Small Business Recovery Grant webinar- free! every Monday
DESCRIPTION:We continue to provide these live zoom webinars to help anyone determine if they are eligible and  teach how to apply for this grant.  $5000 for small businesses up to $50\,000 in grant funding available.  The eligibility  requirements have changed\, so come to one of the zoom meeting on Mondays this month and see if you can apply.  We will step you  through the process and help you gather what you need to submit to be approved.   Reminder:  Women owned\, veteran owned\, and minority owned businesses will be giving priority.  \n\nUse this zoom link to join in any Monday meeting!\n\nKathryn Dailey is inviting you to a scheduled Zoom meeting.\n\n\n\nTopic: Small Business Recovery Grant webinar- free\n\nTime:        Every week on Mon\, 7 occurrence(s)\n\n       \n\nPlease download and import the following iCalendar (.ics) files to your calendar system.\n\nWeekly: https://us02web.zoom.us/meeting/tZIkdeCvqz8pG9PwsQ6xCZiYNj02-XD6eiEo/ics?icsToken=98tyKuGupzkjHdGRsxiARpwAHYjoXe3wmClejfptiwzUVThwWArPGOgSYP9HNI7V\n\n\n\nJoin Zoom Meeting\n\nhttps://us02web.zoom.us/j/86929754317?pwd=V3M2QzZXcklJb3IvSXZ1YS9IYlNHQT09\n\n\n\nMeeting ID: 869 2975 4317\n\nPasscode: 126808\n\nOne tap mobile\n\n+19292056099\,\,86929754317#\,\,\,\,*126808# US (New York)\n\n+13126266799\,\,86929754317#\,\,\,\,*126808# US (Chicago)\n\n\n\nDial by your location\n\n        +1 929 205 6099 US (New York)\n\n        +1 312 626 6799 US (Chicago)\n\n        +1 301 715 8592 US (Washington DC)\n\n        +1 669 900 6833 US (San Jose)\n\n        +1 253 215 8782 US (Tacoma)\n\n        +1 346 248 7799 US (Houston)\n\nMeeting ID: 869 2975 4317\n\nPasscode: 126808\n\nFind your local number: https://us02web.zoom.us/u/kebGQRYNTe
X-ALT-DESC;FMTTYPE=text/html:We continue to provide these live zoom webinars to help anyone determine if they are eligible and&nbsp\; teach how to apply for this grant.&nbsp\; $5000 for small businesses up to $50\,000 in grant funding available.&nbsp\; The eligibility&nbsp\; requirements have changed\, so come to one of the zoom meeting on Mondays this month and see if you can apply.&nbsp\; We will step you&nbsp\; through the process and help you gather what you need to submit to be approved.&nbsp\; &nbsp\;Reminder:&nbsp\; Women owned\, veteran owned\, and minority owned businesses will be giving priority.&nbsp\;&nbsp\;<br />\nUse this zoom link to join in any Monday meeting!<br />\nKathryn Dailey is inviting you to a scheduled Zoom meeting.<br />\n<br />\nTopic: Small Business Recovery Grant webinar- free<br />\nTime:&nbsp\; &nbsp\; &nbsp\; &nbsp\; Every week on Mon\, 7 occurrence(s)<br />\n&nbsp\; &nbsp\; &nbsp\; &nbsp\;<br />\nPlease download and import the following iCalendar (.ics) files to your calendar system.<br />\nWeekly: https://us02web.zoom.us/meeting/tZIkdeCvqz8pG9PwsQ6xCZiYNj02-XD6eiEo/ics?icsToken=98tyKuGupzkjHdGRsxiARpwAHYjoXe3wmClejfptiwzUVThwWArPGOgSYP9HNI7V<br />\n<br />\nJoin Zoom Meeting<br />\nhttps://us02web.zoom.us/j/86929754317?pwd=V3M2QzZXcklJb3IvSXZ1YS9IYlNHQT09<br />\n<br />\nMeeting ID: 869 2975 4317<br />\nPasscode: 126808<br />\nOne tap mobile<br />\n+19292056099\,\,86929754317#\,\,\,\,*126808# US (New York)<br />\n+13126266799\,\,86929754317#\,\,\,\,*126808# US (Chicago)<br />\n<br />\nDial by your location<br />\n&nbsp\; &nbsp\; &nbsp\; &nbsp\; +1 929 205 6099 US (New York)<br />\n&nbsp\; &nbsp\; &nbsp\; &nbsp\; +1 312 626 6799 US (Chicago)<br />\n&nbsp\; &nbsp\; &nbsp\; &nbsp\; +1 301 715 8592 US (Washington DC)<br />\n&nbsp\; &nbsp\; &nbsp\; &nbsp\; +1 669 900 6833 US (San Jose)<br />\n&nbsp\; &nbsp\; &nbsp\; &nbsp\; +1 253 215 8782 US (Tacoma)<br />\n&nbsp\; &nbsp\; &nbsp\; &nbsp\; +1 346 248 7799 US (Houston)<br />\nMeeting ID: 869 2975 4317<br />\nPasscode: 126808<br />\nFind your local number: https://us02web.zoom.us/u/kebGQRYNTe
LOCATION:computer- zoom every Monday at 9:30am
UID:e.2635.903
SEQUENCE:3
DTSTAMP:20260423T171645Z
URL:https://members.otsegocc.com/events/details/2022-nys-small-business-recovery-grant-webinar-free-every-monday-03-28-2022-903
END:VEVENT

END:VCALENDAR
