BEGIN:VCALENDAR
VERSION:2.0
PRODID:-//ChamberMaster//Event Calendar 2.0//EN
METHOD:PUBLISH
X-PUBLISHED-TTL:P3D
REFRESH-INTERVAL:P3D
CALSCALE:GREGORIAN
BEGIN:VEVENT
DTSTART:20220321T133000Z
DTEND:20220321T150000Z
X-MICROSOFT-CDO-ALLDAYEVENT:FALSE
SUMMARY:2022 NYS Small Business Recovery Grant webinar- free! every Monday
DESCRIPTION:This SBRG webinar is cancelled so we can bring you the Labor Law Update webinar.  Call us to set up a time to  do an individual application webinar with you! \n\n607-432-4500 ext. 2
X-ALT-DESC;FMTTYPE=text/html:This SBRG webinar is cancelled so we can bring you the Labor Law Update webinar.&nbsp\; Call us to set up a time to&nbsp\; do an individual application webinar with you!&nbsp\;<br />\n607-432-4500 ext. 2<br />\n<br />\n&nbsp\;
LOCATION:computer- zoom every Monday at 9:30am
UID:e.2635.902
SEQUENCE:3
DTSTAMP:20260423T172550Z
URL:https://members.otsegocc.com/events/details/2022-nys-small-business-recovery-grant-webinar-free-every-monday-03-21-2022-902
END:VEVENT

END:VCALENDAR
