BEGIN:VCALENDAR
VERSION:2.0
PRODID:-//ChamberMaster//Event Calendar 2.0//EN
METHOD:PUBLISH
X-PUBLISHED-TTL:P3D
REFRESH-INTERVAL:P3D
CALSCALE:GREGORIAN
BEGIN:VEVENT
DTSTART:20220428T213000Z
DTEND:20220428T223000Z
X-MICROSOFT-CDO-ALLDAYEVENT:FALSE
SUMMARY:2022 Meet the Members Event at NBHOF in Cooperstown
DESCRIPTION:Meet the Members is a time for you to hear what the new Chamber President and CEO\, Sean Lewis\, envisions for the Otsego County Chamber of Commerce\, and he can hear from you!  Bring your questions to this event and help inform Sean of your priorities.   This will be both live and zoom-  if you can't make it to the Baseball Hall of Fame\, then you can zoom in to connect with this important event.
X-ALT-DESC;FMTTYPE=text/html:Meet the Members is a time for you to hear what the new Chamber President and CEO\, Sean Lewis\, envisions for the Otsego County Chamber of Commerce\, and he can hear from you!&nbsp\; Bring your questions to this event and help inform Sean of your priorities.&nbsp\; &nbsp\;This will be both live and zoom-&nbsp\; if you can&#39\;t make it to the Baseball Hall of Fame\, then you can zoom in to connect with this important event.&nbsp\;
LOCATION:Grandstand Theater at National Baseball Hall of Fame Cooperstown\, NY Main Entrance ** If you want to zoom into the meeting- register and ask for the zoom link- in comments
UID:e.2635.916
SEQUENCE:3
DTSTAMP:20260423T145927Z
URL:https://members.otsegocc.com/events/details/2022-meet-the-members-event-at-nbhof-in-cooperstown-916
END:VEVENT

END:VCALENDAR
