BEGIN:VCALENDAR
VERSION:2.0
PRODID:-//ChamberMaster//Event Calendar 2.0//EN
METHOD:PUBLISH
X-PUBLISHED-TTL:P3D
REFRESH-INTERVAL:P3D
CALSCALE:GREGORIAN
BEGIN:VEVENT
DTSTART:20220426T123000Z
DTEND:20220426T170000Z
X-MICROSOFT-CDO-ALLDAYEVENT:FALSE
SUMMARY:2022 - Job Fair! April 26th 10:00am-1:00pm
DESCRIPTION:Join us!  If you are an employer looking to expand your workforce - sign up for a booth and meet potential employees  at the ONC BOCES facility in Milford.  This Job Fair is open to the Public and will include students  taking courses at the Milford complex.  \n\n\n\nList of Employers to date:\n\nPickett Building Supplies\n\nOneonta Block Co.\n\nOtsego Ready Mix\n\nChase Memorial Nursing Home and Rehab\n\nThe ARC Otsego\n\nOtsego County Sheriff \n\nBassett Community Health Navigation dept.\n\nCooperstown All Star Village\n\nCooperstown Bat Company\n\nCooperstown Distillery\n\nThe Railroad Inn/Hardball Cafe\n\nSpringbrook NY\, Inc.\n\nAstrocom Electronics\n\nRail Explorers\n\nONC BOCES\n\nOtsego County\n\nBassett Healthcare Network\n\nCasella Waste Management of NY\n\nDCMO BOCES \n\nOtsego-Delaware Board of Realtors\n\nCooperstown Center\n\nSissy's Little Lambs Children's Center\n\nNatty Bumpo's Restaurant\n\nAround the Clock In Home Care\n\nSUNY Delhi\n\nNYS Department of Environmental Conservation\n\nFenimore Art Museum and Farmer's Museum\n\nRed Shed Brewery\n\nCooperstown Diner\n\nMorgan Stanley\n\nTFI Track and Field Installers\n\nOneonta Job Corps Academy\n\nHeritage at the Plains\n\nYaks Youth Center\, LLC\n\nRJ Millworkers\, Inc\n\nBurt Rigid Box\n\nPathfinder Village\n\nSeward Sand & Gravel/ Oneonta Equipment\n\nFidelis Care\n\nHelios Care\n\nAAA Northeast\n\nSaputo Dairy Foods
X-ALT-DESC;FMTTYPE=text/html:Join us!&nbsp\; If you are an employer looking to expand your workforce - sign up for a booth and meet potential employees&nbsp\; at the ONC BOCES facility in Milford.&nbsp\; This Job Fair is open to the Public and will include students&nbsp\; taking courses at the Milford complex.&nbsp\;&nbsp\;<br />\n<br />\n<strong>List of Employers to date:</strong><br />\nPickett Building Supplies<br />\nOneonta Block Co.<br />\nOtsego Ready Mix<br />\nChase Memorial Nursing Home and Rehab<br />\nThe ARC Otsego<br />\nOtsego County Sheriff&nbsp\;<br />\nBassett Community Health Navigation dept.<br />\nCooperstown All Star Village<br />\nCooperstown Bat Company<br />\nCooperstown Distillery<br />\nThe Railroad Inn/Hardball Cafe<br />\nSpringbrook NY\, Inc.<br />\nAstrocom Electronics<br />\nRail Explorers<br />\nONC BOCES<br />\nOtsego County<br />\nBassett Healthcare Network<br />\nCasella Waste Management of NY<br />\nDCMO BOCES&nbsp\;<br />\nOtsego-Delaware Board of Realtors<br />\nCooperstown Center<br />\nSissy&#39\;s Little Lambs Children&#39\;s Center<br />\nNatty Bumpo&#39\;s Restaurant<br />\nAround the Clock In Home Care<br />\nSUNY Delhi<br />\nNYS Department of Environmental Conservation<br />\nFenimore Art Museum and Farmer&#39\;s Museum<br />\nRed Shed Brewery<br />\nCooperstown Diner<br />\nMorgan Stanley<br />\nTFI Track and Field Installers<br />\nOneonta Job Corps Academy<br />\nHeritage at the Plains<br />\nYaks Youth Center\, LLC<br />\nRJ Millworkers\, Inc<br />\nBurt Rigid Box<br />\nPathfinder Village<br />\nSeward Sand &amp\; Gravel/ Oneonta Equipment<br />\nFidelis Care<br />\nHelios Care<br />\nAAA Northeast<br />\nSaputo Dairy Foods
LOCATION:ONC BOCES 1914 County Route 35\, Milford\, NY In the gymnasium Need a Ride? "Free Ride to Job Fair! CDO Workforce is offering a free ride to the Job Fair from their Center at 12 Dietz Street in Oneonta. To make reservations for a ride please stop by the CDO Workforce Center between 9am and 4pm\, Monday - Friday."
UID:e.2635.915
SEQUENCE:3
DTSTAMP:20260423T150859Z
URL:https://members.otsegocc.com/events/details/2022-job-fair-april-26th-10-00am-1-00pm-915
END:VEVENT

END:VCALENDAR
