BEGIN:VCALENDAR
VERSION:2.0
PRODID:-//ChamberMaster//Event Calendar 2.0//EN
METHOD:PUBLISH
X-PUBLISHED-TTL:P3D
REFRESH-INTERVAL:P3D
CALSCALE:GREGORIAN
BEGIN:VEVENT
DTSTART:20220209T170000Z
DTEND:20220209T180000Z
X-MICROSOFT-CDO-ALLDAYEVENT:FALSE
SUMMARY:2022 - Get On Board! Learn what Non-Profit organizations are in the region and how you can get involved
DESCRIPTION:Get On Board is a way to find out what non- profit organizations are in the County that serve the region culturally\, the human services orgs.\, humane societies\, etc. and how you can get involved!  Each organization will do a 2 minute speed dating /elevator speech about who they are\, what they do\, and what they need so you can learn a bit about them and then reach out afterwards if you are interested in helping them with your expertise.
X-ALT-DESC;FMTTYPE=text/html:Get On Board is a way to find out what non- profit organizations are in the County that serve the region culturally\, the human services orgs.\, humane societies\, etc. and how you can get involved!&nbsp\; Each organization will do a 2 minute speed dating /elevator speech about who they are\, what they do\, and what they need so you can learn a bit about them and then reach out afterwards if you are interested in helping them with your expertise.<br />\n&nbsp\;
LOCATION:This will be a zoom meeting event- so from your desk or kitchen table
UID:e.2635.515
SEQUENCE:3
DTSTAMP:20260423T192741Z
URL:https://members.otsegocc.com/events/details/2022-get-on-board-learn-what-non-profit-organizations-are-in-the-region-and-how-you-can-get-involved-515
END:VEVENT

END:VCALENDAR
