BEGIN:VCALENDAR
VERSION:2.0
PRODID:-//ChamberMaster//Event Calendar 2.0//EN
METHOD:PUBLISH
X-PUBLISHED-TTL:P3D
REFRESH-INTERVAL:P3D
CALSCALE:GREGORIAN
BEGIN:VEVENT
DTSTART:20220812T123000Z
DTEND:20220812T190000Z
X-MICROSOFT-CDO-ALLDAYEVENT:FALSE
SUMMARY:2022 36th Annual Golf Classic Friday\, August 12\, 2022
DESCRIPTION:36th Annual Golf Classic at the Beautiful Oneonta Country Club!  Get your team together today! \n\nThere will be prizes for 3 flights\, raffle tickets\, Longest drive\, Straightest drive\, Putting contest\, Closest to the pin\, Hole in One Contest\, Lots of food\, swag bag and FUN!
X-ALT-DESC;FMTTYPE=text/html:36th Annual Golf Classic at the Beautiful Oneonta Country Club!&nbsp\; Get your team together today!&nbsp\;<br />\nThere will be prizes for 3 flights\,&nbsp\;raffle tickets\,&nbsp\;Longest drive\, Straightest drive\, Putting contest\, Closest to the pin\, Hole in One Contest\, Lots of food\, swag bag and FUN!&nbsp\;
LOCATION:Oneonta Country Club\, Oneonta NY
UID:e.2635.1048
SEQUENCE:3
DTSTAMP:20260423T165833Z
URL:https://members.otsegocc.com/events/details/2022-36th-annual-golf-classic-friday-august-12-2022-1048
END:VEVENT

END:VCALENDAR
