BEGIN:VCALENDAR
VERSION:2.0
PRODID:-//ChamberMaster//Event Calendar 2.0//EN
METHOD:PUBLISH
X-PUBLISHED-TTL:P3D
REFRESH-INTERVAL:P3D
CALSCALE:GREGORIAN
BEGIN:VEVENT
DTSTART:20220611T110000Z
DTEND:20220611T210000Z
X-MICROSOFT-CDO-ALLDAYEVENT:FALSE
SUMMARY:2022 2nd Annual Pickleball Tournament
DESCRIPTION:2nd Annual Pickleball Tournament- registration is closed- brackets made- come watch the matches on Saturday \n\n \n\nThank you to Five Star Subaru for being the Headline Sponsor for this event- Whoot Woo Subaru!\n\n\n\nOtsego County Chamber of Commerce in partnership with the Oneonta YMCA is hosting a Pickleball Tournament for adults of all ages.\n\nDivisions include Men's/ Women's/ Mixed/ Open\n\n\n\nCome Join the Fun!\n\nFree stuff\, Prizes\, and a good time will be had by all!   \n\nMorning will be Men's and Women's groups with playoff and championships- afternoon will be Mixed/ Open - so you an sign up for 2 teams! \n\n\n\nGuarantee 3 games in each division\n\n15 minutes games- leader after that time is declared winner.\n\nYou rank yourself on the registration form- will send ranking definitions to you-\n\n\n\nCovid protocols will be observed-\n\n	Spectators need to be 6 ft. apart outside the courts fence\, but can be in family groups. Must bring own lawn chairs. Masks to be worn by all spectators not vaccinated. \n	Players not vaccinated must wear masks between matches- do not have to wear while playing. \n	Temperature and health questionnaire will be required at the registration table for all players  \n\nHand sanitizer and disposable masks will be available for everyone who needs or wants\n\n\n\nWant to Sponsor?  The More the Merrier! $100 for a court sign- $500 for tournament sponsor.    This is a fundraiser for the Chamber of Commerce and we would love to have you involved. call the office and let's talk! (607) 432-4500 ext 2.
X-ALT-DESC;FMTTYPE=text/html:<strong>2nd Annual Pickleball Tournament- registration is closed- brackets made- come watch the matches on Saturday&nbsp\;</strong><br />\n&nbsp\;<br />\nThank you to<span style="font-size:16px\;"><span style="font-family:verdana\;"><u><strong> Five Star Subaru</strong></u></span></span> for being the Headline Sponsor for this event- Whoot Woo Subaru!<br />\n<br />\nOtsego County Chamber of Commerce in partnership with the <strong><span style="color:#FF0000\;">Oneonta YMCA</span></strong> is hosting a Pickleball Tournament for adults of all ages.<br />\nDivisions include Men&#39\;s/ Women&#39\;s/ Mixed/ Open<br />\n<br />\nCome Join the Fun!<br />\nFree stuff\, Prizes\, and a good time will be had by all!&nbsp\; &nbsp\;<br />\nMorning will be Men&#39\;s and Women&#39\;s groups with playoff and championships- afternoon will be Mixed/ Open - so you an sign up for 2 teams!&nbsp\;<br />\n<br />\nGuarantee 3 games in each division<br />\n15 minutes games- leader after that time is declared winner.<br />\nYou rank yourself on the registration form- will send ranking definitions to you-<br />\n<br />\nCovid protocols will be observed-\n<ul>\n	<li>Spectators need to be 6 ft. apart outside the courts fence\, but can be in family groups. Must bring own lawn chairs. Masks to be worn by all spectators not vaccinated.&nbsp\;</li>\n	<li>Players not vaccinated must wear masks between matches- do not have to wear while playing.&nbsp\;</li>\n	<li>Temperature and health questionnaire will be required at the registration table for all players&nbsp\;&nbsp\;</li>\n</ul>\nHand sanitizer and disposable masks will be available for everyone who needs or wants<br />\n<br />\n<strong>Want to Sponsor?&nbsp\;</strong> The More the Merrier! $100 for a court sign- $500 for tournament sponsor.&nbsp\; &nbsp\; This is a fundraiser for the Chamber of Commerce and we would love to have you involved. call the office and let&#39\;s talk! (607) 432-4500 ext 2.&nbsp\;&nbsp\;<br />\n&nbsp\;
LOCATION:Pickleball Courts in Neahwa Park\, Oneonta NY
UID:e.2635.917
SEQUENCE:3
DTSTAMP:20260423T111457Z
URL:https://members.otsegocc.com/events/details/2022-2nd-annual-pickleball-tournament-917
END:VEVENT

END:VCALENDAR
