BEGIN:VCALENDAR
VERSION:2.0
PRODID:-//ChamberMaster//Event Calendar 2.0//EN
METHOD:PUBLISH
X-PUBLISHED-TTL:P3D
REFRESH-INTERVAL:P3D
CALSCALE:GREGORIAN
BEGIN:VEVENT
DTSTART:20210727T130000Z
DTEND:20210727T150000Z
X-MICROSOFT-CDO-ALLDAYEVENT:FALSE
SUMMARY:2021 Workforce Needs Forum - Delgado\, Oberacker and Assemblymen Salka\, Miller\, and Tague to hear your thoughts
DESCRIPTION:Workforce Needs Forum- Join us via Zoom and tell your representatives what you are experiencing with employment issues and ideas you have for solving those issues. \n\nRepresentatives confirmed to attend:\n\nUS Congressman Antonio Delgado\n\nNYS Senator Peter Oberacker\n\nNYS Assemblyman John Salka\n\nNYS Assemblyman Chris Tague\n\nNYS Assemblyman Brian Miller\n\n\n\nEach Business owner will be given 2-3 minutes to discuss their employment issues and thoughts about solving the problem.  This is your opportunity to be heard and give the representatives your ideas - we want this to be a productive session\, so come prepared to speak about your business needs and what you think are possible solutions to the employment situation.
X-ALT-DESC;FMTTYPE=text/html:Workforce Needs Forum- Join us via Zoom and tell your representatives what you are experiencing with employment issues and ideas you have for solving those issues.&nbsp\;<br />\nRepresentatives confirmed to attend:<br />\nUS Congressman Antonio Delgado<br />\nNYS Senator Peter Oberacker<br />\nNYS Assemblyman John Salka<br />\nNYS Assemblyman Chris Tague<br />\nNYS Assemblyman Brian Miller<br />\n<br />\nEach Business owner will be given 2-3 minutes to discuss their employment issues and thoughts about solving the problem.&nbsp\; This is your opportunity to be heard and give the representatives your ideas - we want this to be a productive session\, so come prepared to speak about your business needs and what you think are possible solutions to the employment situation.&nbsp\;&nbsp\;
LOCATION:zoom meeting- so anywhere you have a good computer connection
UID:e.2635.460
SEQUENCE:3
DTSTAMP:20260424T084248Z
URL:https://members.otsegocc.com/events/details/2021-workforce-needs-forum-delgado-oberacker-and-assemblymen-salka-miller-and-tague-to-hear-your-thoughts-460
END:VEVENT

END:VCALENDAR
