BEGIN:VCALENDAR
VERSION:2.0
PRODID:-//ChamberMaster//Event Calendar 2.0//EN
METHOD:PUBLISH
X-PUBLISHED-TTL:P3D
REFRESH-INTERVAL:P3D
CALSCALE:GREGORIAN
BEGIN:VEVENT
DTSTART:20210305T133000Z
DTEND:20210305T150000Z
X-MICROSOFT-CDO-ALLDAYEVENT:FALSE
SUMMARY:2021 Update on Broadband Internet in the County
DESCRIPTION:Virtual webinar on the progress of bringing Broadband Internet service to the entire County.  Tim Johnson from Otsego Electric Cooperative  will walk us through where the process stands now and what to expect moving forward.  Does your business/ sales depend on broadband service?  Sign up to hear the latest information on this very important project.
X-ALT-DESC;FMTTYPE=text/html:Virtual webinar on the progress of bringing Broadband Internet service to the entire County.&nbsp\; Tim Johnson from Otsego Electric Cooperative&nbsp\; will walk us through where the process stands now and what to expect moving forward.&nbsp\; Does your business/ sales depend on broadband service?&nbsp\; Sign up to hear the latest information on this very important project.&nbsp\;
LOCATION:Virtually via Zoom meeting
UID:e.2635.434
SEQUENCE:3
DTSTAMP:20260424T084112Z
URL:https://members.otsegocc.com/events/details/2021-update-on-broadband-internet-in-the-county-434
END:VEVENT

END:VCALENDAR
