BEGIN:VCALENDAR
VERSION:2.0
PRODID:-//ChamberMaster//Event Calendar 2.0//EN
METHOD:PUBLISH
X-PUBLISHED-TTL:P3D
REFRESH-INTERVAL:P3D
CALSCALE:GREGORIAN
BEGIN:VEVENT
DTSTART:20210105T140000Z
DTEND:20210106T033000Z
X-MICROSOFT-CDO-ALLDAYEVENT:FALSE
SUMMARY:2021 State of the State- Virtual Meeting with Keynote: Antonio Delgado
DESCRIPTION:The Otsego County Chamber of Commerce is presenting the State of the State in a new virtual format for 2021.  We are very pleased to announce US Congressman Antonio Delgado will be the keynote speaker\, and that this will be a free event to kick off 2021.\n\nThe State of the State has been a place where you can hear first hand from your elected officials on what their priorities are for the coming year\, and learn how the various initiatives and upcoming legislation may impact  your business.   We expect representatives at all levels of government to be a part of this panel\, more information will be coming soon
X-ALT-DESC;FMTTYPE=text/html:The Otsego County Chamber of Commerce is presenting the State of the State in a new virtual format for 2021.&nbsp\; We are very pleased to announce US Congressman Antonio Delgado will be the keynote speaker\, and that this will be a free event to kick off 2021.<br />\nThe State of the State has been a place where you can hear first hand from your elected officials on what their priorities are for the coming year\, and learn how the various initiatives and upcoming legislation may impact&nbsp\; your business.&nbsp\; &nbsp\;We expect representatives at all levels of government to be a part of this panel\, more information will be coming soon&nbsp\;&nbsp\;
LOCATION:Virtually: You are invited to a Zoom meeting. When: Jan 5\, 2021 09:00 AM Eastern Time (US and Canada) Register in advance for this meeting: https://us02web.zoom.us/meeting/register/tZElcuqpqD8iGND-zlGTofHBNLToiUlFgxs0 After registering\, you will receive a confirmation email containing information about joining the meeting.
UID:e.2635.404
SEQUENCE:3
DTSTAMP:20260421T052545Z
URL:https://members.otsegocc.com/events/details/2021-state-of-the-state-virtual-meeting-with-keynote-antonio-delgado-404
END:VEVENT

END:VCALENDAR
