BEGIN:VCALENDAR
VERSION:2.0
PRODID:-//ChamberMaster//Event Calendar 2.0//EN
METHOD:PUBLISH
X-PUBLISHED-TTL:P3D
REFRESH-INTERVAL:P3D
CALSCALE:GREGORIAN
BEGIN:VEVENT
DTSTART:20210218T140000Z
DTEND:20210218T150000Z
X-MICROSOFT-CDO-ALLDAYEVENT:FALSE
SUMMARY:2021 - Smart Business Seminar- SCORE Mentors\, let them help you GROW
DESCRIPTION:SCORE Mentors:  Let them Help you GROW\n\nthis free seminar will explain the Mentor program and how you can get someone who has "been there and done that" to help you with any or all of your business questions.
X-ALT-DESC;FMTTYPE=text/html:SCORE Mentors:&nbsp\; Let them Help you GROW<br />\nthis free seminar will explain the Mentor program and how you can get someone who has &quot\;been there and done that&quot\; to help you with any or all of your business questions.&nbsp\;&nbsp\;
LOCATION:Virtually- this will be a zoom meeting- but you must pre-register. the Zoom meeting link will be sent out closer to the date.
UID:e.2635.420
SEQUENCE:3
DTSTAMP:20260424T104026Z
URL:https://members.otsegocc.com/events/details/2021-smart-business-seminar-score-mentors-let-them-help-you-grow-420
END:VEVENT

END:VCALENDAR
