BEGIN:VCALENDAR
VERSION:2.0
PRODID:-//ChamberMaster//Event Calendar 2.0//EN
METHOD:PUBLISH
X-PUBLISHED-TTL:P3D
REFRESH-INTERVAL:P3D
CALSCALE:GREGORIAN
BEGIN:VEVENT
DTSTART:20210413T123000Z
DTEND:20210413T133000Z
X-MICROSOFT-CDO-ALLDAYEVENT:FALSE
SUMMARY:2021 - Smart Business Seminar- Otsego County Waste-Smart Business Certification
DESCRIPTION:Otsego County wants to recognize businesses in our County that have made the effort to improve sustainable solid waste practices within their business. The businesses recognized with this certification are role-models for our community. Responsible solid waste management practices help reduce carbon emissions\, give longer life to our landfills\, and prevent waste from polluting the environment.  Shane Digan\, Planner and Recycling Coordinator for Otsego County will explain the certification  benefits for your business and the environment and how you can apply.  Celebrate Earth Day by getting certified!
X-ALT-DESC;FMTTYPE=text/html:<span style="color: rgb(68\, 68\, 68)\; font-family: Lato\, sans-serif\; font-size: 15px\;">Otsego County wants to recognize businesses in our County that have made the effort to improve sustainable solid waste practices within their business. The businesses recognized with this certification are role-models for our community. Responsible solid waste management practices help reduce carbon emissions\, give longer life to our landfills\, and prevent waste from polluting the environment.&nbsp\; <strong>Shane Digan</strong>\, Planner and Recycling Coordinator for Otsego County will explain the certification&nbsp\; benefits for your business and the environment and how you can apply.&nbsp\; Celebrate Earth Day by getting certified!</span>
LOCATION:Zoom meeting- virtually from anywhere.
UID:e.2635.436
SEQUENCE:3
DTSTAMP:20260422T112115Z
URL:https://members.otsegocc.com/events/details/2021-smart-business-seminar-otsego-county-waste-smart-business-certification-436
END:VEVENT

END:VCALENDAR
