BEGIN:VCALENDAR
VERSION:2.0
PRODID:-//ChamberMaster//Event Calendar 2.0//EN
METHOD:PUBLISH
X-PUBLISHED-TTL:P3D
REFRESH-INTERVAL:P3D
CALSCALE:GREGORIAN
BEGIN:VEVENT
DTSTART:20210427T123000Z
DTEND:20210427T140000Z
X-MICROSOFT-CDO-ALLDAYEVENT:FALSE
SUMMARY:2021- SBS Empowerment: Women Owned Businesses Roundtable #2
DESCRIPTION:Empowerment take 2- The first event was a success and we were asked to do it again- so here we go-Join us for a virtual roundtable discussing topics and concerns that effect women owned businesses in our region. \n\n\n\nIf you identify as a women owned business\, join us in the discussion- tell us about your business and how you are surviving/thriving. \n\n\n\nIf you are thinking of starting a business\, this is a GREAT place to hear from women about their experiences and ask questions of women who have been there.
X-ALT-DESC;FMTTYPE=text/html:Empowerment take 2- The first event was a success and we were asked to do it again- so here we go-Join us for a virtual roundtable discussing topics and concerns that effect women owned businesses in our region.&nbsp\;<br />\n<br />\nIf you identify as a women owned business\, join us in the discussion- tell us about your business and how you are surviving/thriving.&nbsp\;<br />\n<br />\nIf you are thinking of starting a business\, this is a GREAT place to hear from women about their experiences and ask questions of women who have been there.&nbsp\;&nbsp\;
LOCATION:From any computer world-wide.
UID:e.2635.453
SEQUENCE:3
DTSTAMP:20260424T102233Z
URL:https://members.otsegocc.com/events/details/2021-sbs-empowerment-women-owned-businesses-roundtable-2-453
END:VEVENT

END:VCALENDAR
