BEGIN:VCALENDAR
VERSION:2.0
PRODID:-//ChamberMaster//Event Calendar 2.0//EN
METHOD:PUBLISH
X-PUBLISHED-TTL:P3D
REFRESH-INTERVAL:P3D
CALSCALE:GREGORIAN
BEGIN:VEVENT
DTSTART:20201112T213000Z
DTEND:20201112T230000Z
X-MICROSOFT-CDO-ALLDAYEVENT:FALSE
SUMMARY:2020 Small Business and Entrepreneurial Spirit Award\, Thursday November 12th at 4:30pm
DESCRIPTION:On Thursday\, November 12\, 2020 at 4:30p.m. the chamber will shine a light on our award winners virtually with stories of innovation\, entrepreneurship and resiliency\, told by our own business members\, as they weathered a global pandemic. The theme is  #TogetherWeThrive.  This is an opportunity  for our award winners to showcase their accomplishments by sharing a video\, personal remarks\, photos and initiatives they are working on. This year award winners include:\n	Theresa's Emporium \n\n	Pathfinder Produce and The Mobile Market \n\n	Custom Electronics\n\n	Senator James Seward
X-ALT-DESC;FMTTYPE=text/html:<ul>\n	<li style="font-size: 12pt\;">On&nbsp\;<strong><span style="font-family:calibri\,sans-serif\;">Thursday\, November 12\, 2020 at 4:30p.m.</span></strong> the chamber will shine a light on our award winners virtually with stories of innovation\, entrepreneurship and resiliency\, told by our own business members\, as they weathered a global pandemic. The theme is &nbsp\;<strong>#TogetherWeThrive. </strong>&nbsp\;This is an opportunity &nbsp\;for our award winners to showcase their accomplishments by sharing a video\, personal remarks\, photos and initiatives they are working on. This year award winners include:\n	<p><strong><span style="font-size:16px\;">Theresa&#39\;s Emporium&nbsp\;<br />\n	<strong>Pathfinder Produce and The Mobile Market&nbsp\;</strong></span><br />\n	<strong><strong><span style="font-size: 16px\;">Custom Electronics<br />\n	<strong><span style="font-size: 16px\;">Senator James Seward&nbsp\;</span></strong></span></strong></strong></strong></p>\n	</li>\n</ul>\n
LOCATION:Virtual Celebration via ZOOM When: Nov 12\, 2020 04:30 PM Eastern Time (US and Canada) Register in advance for this meeting: https://us02web.zoom.us/meeting/register/tZcpdO6vrD4pGdKvzJqYvbFKJOlvMkfJX8tK
UID:e.2635.396
SEQUENCE:3
DTSTAMP:20260421T054332Z
URL:https://members.otsegocc.com/events/details/2020-small-business-and-entrepreneurial-spirit-award-thursday-november-12th-at-4-30pm-396
END:VEVENT

END:VCALENDAR
