BEGIN:VCALENDAR
VERSION:2.0
PRODID:-//ChamberMaster//Event Calendar 2.0//EN
METHOD:PUBLISH
X-PUBLISHED-TTL:P3D
REFRESH-INTERVAL:P3D
CALSCALE:GREGORIAN
BEGIN:VEVENT
DTSTART:20160201T130000Z
DTEND:20160201T130000Z
X-MICROSOFT-CDO-ALLDAYEVENT:FALSE
SUMMARY:2016 - Leadership Otsego
DESCRIPTION:The Otsego County Chamber of Commerce in partnership with Executive Service Corp is pleased to announce that applications are now being accepted for the Spring 2014 class of Leadership Otsego. Leadership Otsego was started in 1997 by the Future for Oneonta Foundation\, Hartwick College\, The Otsego County Chamber of Commerce\, SUNY Oneonta and United Way of Delaware & Otsego Counties. \n\n \n\nOffered through the Otsego County Chamber of Commerce\, Leadership Otsego kicks off on Wednesday\, March 5th with an information night at Stella Luna and will begin meeting one full Wednesday each month starting in April for 6 months. The curriculum teaches area residents and workers about leadership concepts and skills using discussions with people across the county.\n\n \n\nParticipants have the opportunity to build their personal networks as well as understanding of local challenges and opportunities by interacting with numerous presenters.  Since its start in 1997\, Leadership Otsego participants have heard from nearly 150 area experts.\n\n \n\nNumerous Community leaders will be covering topics to include Commerce and Trade\, Education\, Healthcare\, Government\, and Leadership.\n\n \n\nApplicants range from entry-level managers to top administrators\, from newcomers finding their way to long-time residents rediscovering the area\, from young adults just starting out to empty-nesters and retirees\, from those who call Otsego towns "home" to commuters along the county line.\n\n \n\nLeadership Otsego alumni represent a variety of ages\, occupations\, employers\, interests\, and hometowns throughout the county.  \n\n \n\nThe kick off dinner will take place at Stella Luna on a Wednesday\, March 5\, 2014 at 6:00p.m.. Reservations are required. Application Deadline is April 1st.
X-ALT-DESC;FMTTYPE=text/html:<p style="margin: 0in 0in 0pt\;"><font face="Calibri" size="3">The Otsego County Chamber of Commerce in partnership with Executive Service Corp is pleased to announce that applications are now being accepted for the Spring 2014 class of Leadership Otsego. Leadership Otsego was started in 1997 by the Future for Oneonta Foundation\, Hartwick College\, The Otsego County Chamber of Commerce\, SUNY Oneonta and United Way of Delaware &amp\; Otsego Counties. </font></p>\n\n<p style="margin: 0in 0in 0pt\;"><span style="font-size: 8pt\;"><font face="Calibri">&nbsp\;</font></span></p>\n\n<p style="margin: 0in 0in 0pt\;"><font face="Calibri"><font size="3">Offered through the Otsego County Chamber of Commerce\, Leadership Otsego kicks off on Wednesday\, March 5</font><sup><font size="2">th</font></sup><font size="3"> with an information night at Stella Luna and will begin meeting one full Wednesday each month starting in April for 6 months. The curriculum teaches area residents and workers about leadership concepts and skills using discussions with people across the county.</font></font></p>\n\n<p style="margin: 0in 0in 0pt\;"><span style="font-size: 8pt\;"><font face="Calibri">&nbsp\;</font></span></p>\n\n<p style="margin: 0in 0in 0pt\;"><font face="Calibri" size="3">Participants have the opportunity to build their personal networks as well as understanding of local challenges and opportunities by interacting with numerous presenters.&nbsp\; Since its start in 1997\, Leadership Otsego participants have heard from nearly 150 area experts.</font></p>\n\n<p style="margin: 0in 0in 0pt\;"><span style="font-size: 8pt\;"><font face="Calibri">&nbsp\;</font></span></p>\n\n<p style="margin: 0in 0in 0pt\;"><font face="Calibri" size="3">Numerous Community leaders will be covering topics to include Commerce and Trade\, Education\, Healthcare\, Government\, and Leadership.</font></p>\n\n<p style="margin: 0in 0in 0pt\;"><span style="font-size: 8pt\;"><font face="Calibri">&nbsp\;</font></span></p>\n\n<p style="margin: 0in 0in 0pt\;"><font face="Calibri" size="3">Applicants range from entry-level managers to top administrators\, from newcomers finding their way to long-time residents rediscovering the area\, from young adults just starting out to empty-nesters and retirees\, from those who call Otsego towns &quot\;home&quot\; to commuters along the county line.</font></p>\n\n<p style="margin: 0in 0in 0pt\;"><span style="font-size: 8pt\;"><font face="Calibri">&nbsp\;</font></span></p>\n\n<p style="margin: 0in 0in 0pt\;"><font face="Calibri" size="3">Leadership Otsego alumni represent a variety of ages\, occupations\, employers\, interests\, and hometowns throughout the county.&nbsp\; </font></p>\n\n<p style="margin: 0in 0in 0pt\;"><span style="font-size: 8pt\;"><font face="Calibri">&nbsp\;</font></span></p>\n\n<p style="margin: 0in 0in 0pt\;"><font face="Calibri"><font size="3">The kick off dinner will take place at Stella Luna on a Wednesday\, March 5\, 2014 at 6:00p.m.. Reservations are required. Application Deadline is April 1</font><sup><font size="2">st</font></sup><font size="3">. </font></font></p>\n
LOCATION:Stella Luna Ristorante
UID:e.2635.157
SEQUENCE:3
DTSTAMP:20260423T082246Z
URL:https://members.otsegocc.com/events/details/2016-leadership-otsego-157
END:VEVENT

END:VCALENDAR
