BEGIN:VCALENDAR
VERSION:2.0
PRODID:-//ChamberMaster//Event Calendar 2.0//EN
METHOD:PUBLISH
X-PUBLISHED-TTL:P3D
REFRESH-INTERVAL:P3D
CALSCALE:GREGORIAN
BEGIN:VEVENT
DTSTART:20150225T164500Z
DTEND:20150225T164500Z
X-MICROSOFT-CDO-ALLDAYEVENT:FALSE
SUMMARY:2015 Networking Luncheon
DESCRIPTION:February Networking Luncheon!\n\nWednesday\, February 25\, 2015\n\n11:45am - 1:30pm\n\nThe Otesaga Resort Hotel\n\n      60 Lake Street\, Cooperstown\n\nJoin us on Wednesday\, February 25\, 2015 as we welcome Christian Harris\, Department of Labor\, who will be providing an overview of the economic forecast for Otsego County. \n\nMajor Sponsor          $300\n\nYou receive two tickets for the luncheon\, a five-minute commercial to talk about your company\, a table card with your company logo and a table for your business cards\, brochures\, any other promotional items.  You will also receive 2 week complimentary promotion on our LED sign which is our digital sign located on 189 Main Street\n\n \n\nTable Sponsor $70\n\nYou receive one ticket for the luncheon\, a one-minute commercial to talk about your company\, a table card with your company logo and a table for your business cards\, brochures\, any other promotional items. (only 9 table sponsorship available)\n\n \n\nReservation  $25 per person ($35 for Non Members)\n\nThis is a great opportunity to connect with other local business representatives. Bring your business cards.
X-ALT-DESC;FMTTYPE=text/html:<p style="text-align: center\;"><span style="font-family: &quot\;Maiandra GD&quot\;\; font-size: 18pt\; font-weight: bold\; language: EN\;">February Networking Luncheon!</span></p>\n\n<p style="text-align: center\;"><span style="font-family: &quot\;Maiandra GD&quot\;\; font-size: 11pt\; language: EN\;">Wednesday\, February 25\, 2015</span></p>\n\n<p style="text-align: center\;"><span style="font-family: &quot\;Maiandra GD&quot\;\; font-size: 11pt\; language: EN\;">11:45am - 1:30pm</span></p>\n\n<p style="text-align: center\;"><span style="font-family: &quot\;Maiandra GD&quot\;\; font-size: 11pt\; language: EN\;">The Otesaga Resort Hotel</span></p>\n\n<p style="text-align: center\;"><span style="font-family: &quot\;Maiandra GD&quot\;\; font-size: 11pt\; language: EN\;"><span>&nbsp\;&nbsp\;&nbsp\;&nbsp\;&nbsp\;&nbsp\;</span>60 Lake Street\, Cooperstown</span></p>\n\n<p align="left" style="text-align: center\;"><span style="font-family: &quot\;Maiandra GD&quot\;\; font-size: 11pt\; language: EN\;">Join us on Wednesday\, February 25\, 2015 as we welcome Christian Harris\, Department of Labor\, who will be providing an overview of the economic forecast for Otsego County.&nbsp\;</span></p>\n\n<p><span style="font-family: &quot\;Maiandra GD&quot\;\; font-size: 12pt\; font-weight: bold\; language: EN\;">Major Sponsor<span>&nbsp\;&nbsp\;&nbsp\;&nbsp\;&nbsp\;&nbsp\;&nbsp\;&nbsp\;&nbsp\; </span>$300</span></p>\n\n<p style="text-align: justify\; -ms-text-justify: newspaper\; -ms-text-kashida-space: 50%\;"><span style="font-family: &quot\;Maiandra GD&quot\;\; font-size: 11pt\; language: EN\;">You receive two tickets for the luncheon\, a five-minute commercial to talk about your company\, a table card with your company logo and a table for your business cards\, brochures\, any other promotional items.<span>&nbsp\; </span>You will also receive 2 week complimentary promotion on our LED sign which is our digital sign located on 189 Main Street</span></p>\n\n<p><span style="font-family: &quot\;Maiandra GD&quot\;\; font-size: 11pt\; language: EN\;"><span>&nbsp\;</span></span></p>\n\n<p><span style="font-family: &quot\;Maiandra GD&quot\;\; font-size: 12pt\; font-weight: bold\; language: EN\;">Table Sponsor<span> </span>$70</span></p>\n\n<p style="text-align: justify\; -ms-text-justify: newspaper\; -ms-text-kashida-space: 50%\;"><span style="font-family: &quot\;Maiandra GD&quot\;\; font-size: 11pt\; language: EN\;">You receive one ticket for the luncheon\, a one-minute commercial to talk about your company\, a table card with your company logo and a table for your business cards\, brochures\, any other promotional items. (only 9 table sponsorship available)</span></p>\n\n<p><span style="font-family: &quot\;Maiandra GD&quot\;\; font-size: 4pt\; language: EN\;">&nbsp\;</span></p>\n\n<p><span style="font-family: &quot\;Maiandra GD&quot\;\; font-size: 12pt\; font-weight: bold\; language: EN\;">Reservation<span> </span><span> </span>$25 per person ($35 for Non Members)</span></p>\n\n<p><span style="font-family: &quot\;Maiandra GD&quot\;\; font-size: 11pt\; language: EN\;">This is a great opportunity to connect with other local business representatives. Bring your business cards.</span></p>\n\n<p><span style="language: EN\;">&nbsp\;</span></p>\n
LOCATION:The Otesaga Resort Hotel
UID:e.2635.106
SEQUENCE:3
DTSTAMP:20260425T112746Z
URL:https://members.otsegocc.com/events/details/2015-networking-luncheon-02-25-2015-106
END:VEVENT

END:VCALENDAR
